BEGIN:VCALENDAR
VERSION:2.0
X-WR-CALNAME: Upcoming shows
PRODID:GIGPRESS 2.0 WORDPRESS PLUGIN
CALSCALE:GREGORIAN
X-WR-TIMEZONE:Etc/GMT
METHOD:PUBLISH
BEGIN:VTIMEZONE
TZID:GMT
BEGIN:STANDARD
DTSTART:20071028T010000
TZOFFSETTO:+0000
TZOFFSETFROM:+0000
END:STANDARD
END:VTIMEZONE
BEGIN:VEVENT
SUMMARY:Shorty Long and the Jersey Horns at Bolero Resort
DESCRIPTION:All Ages/Licensed
LOCATION:Bolero Resort\, 3320 Atlantic Ave\, Wildwood\, US
UID:20260425T200000Z-1026-akamudstock@gmail.com
URL:https://www.shortylongrocks.com
DTSTART;VALUE=DATE-TIME;TZID=GMT:20260425T200000Z
DTEND;VALUE=DATE-TIME;TZID=GMT:20260425T200000Z
DTSTAMP:20260421T125304Z
END:VEVENT
BEGIN:VEVENT
SUMMARY:Shorty Long and the Jersey Horns at The Stone Pony
DESCRIPTION:All Ages/Licensed
LOCATION:The Stone Pony\, 913 N.Ocean Ave\, Asbury Park\, US
UID:20260430T213000Z-995-akamudstock@gmail.com
URL:https://www.shortylongrocks.com
DTSTART;VALUE=DATE-TIME;TZID=GMT:20260430T213000Z
DTEND;VALUE=DATE-TIME;TZID=GMT:20260430T213000Z
DTSTAMP:20260421T125304Z
END:VEVENT
BEGIN:VEVENT
SUMMARY:Shorty Long and the Jersey Horns at Landmark Americana
DESCRIPTION:Notes: WHAT A CRAZY NIGHT THIS WILL BE OUR FIRST TIME PLAYING AT THE LEGENDARY LANDY   ROWAN !!!! All Ages/Licensed
LOCATION:Landmark Americana\, 1 Mullica Hill Rd\, Glassboro\, US
UID:20260502T213000Z-1034-akamudstock@gmail.com
URL:https://www.shortylongrocks.com
DTSTART;VALUE=DATE-TIME;TZID=GMT:20260502T213000Z
DTEND;VALUE=DATE-TIME;TZID=GMT:20260502T213000Z
DTSTAMP:20260421T125304Z
END:VEVENT
BEGIN:VEVENT
SUMMARY:Shorty Long and the Jersey Horns at Lacey Moose Lodge
DESCRIPTION:All Ages/Licensed
LOCATION:Lacey Moose Lodge\, Rte 9\, Forked River\, US
UID:20260508T193000Z-1035-akamudstock@gmail.com
URL:https://www.shortylongrocks.com
DTSTART;VALUE=DATE-TIME;TZID=GMT:20260508T193000Z
DTEND;VALUE=DATE-TIME;TZID=GMT:20260508T193000Z
DTSTAMP:20260421T125304Z
END:VEVENT
BEGIN:VEVENT
SUMMARY:Shorty Long and the Jersey Horns at B2 Bistro & Bar
DESCRIPTION:All Ages/Licensed
LOCATION:B2 Bistro & Bar\, 125 Bayview Ave\, Bayville\, US
UID:20260509T190000Z-1036-akamudstock@gmail.com
URL:https://www.shortylongrocks.com
DTSTART;VALUE=DATE-TIME;TZID=GMT:20260509T190000Z
DTEND;VALUE=DATE-TIME;TZID=GMT:20260509T190000Z
DTSTAMP:20260421T125304Z
END:VEVENT
BEGIN:VEVENT
SUMMARY:Shorty Long and the Jersey Horns at Cigar Fest
DESCRIPTION:All Ages/Licensed
LOCATION:Cigar Fest\, 1 Hillsdale Dr\, Drums\, US
UID:20260515T170000Z-1043-akamudstock@gmail.com
URL:https://www.shortylongrocks.com
DTSTART;VALUE=DATE-TIME;TZID=GMT:20260515T170000Z
DTEND;VALUE=DATE-TIME;TZID=GMT:20260515T170000Z
DTSTAMP:20260421T125304Z
END:VEVENT
BEGIN:VEVENT
SUMMARY:Shorty Long and the Jersey Horns at Green Branch Park
DESCRIPTION:Notes: Open To The Public Fun !!! All Ages/Licensed
LOCATION:Green Branch Park\, 299 Upper Neck Rd\, Pittsgrove\, US
UID:20260516T073000Z-1045-akamudstock@gmail.com
URL:https://www.shortylongrocks.com
DTSTART;VALUE=DATE-TIME;TZID=GMT:20260516T073000Z
DTEND;VALUE=DATE-TIME;TZID=GMT:20260516T073000Z
DTSTAMP:20260421T125304Z
END:VEVENT
BEGIN:VEVENT
SUMMARY:Shorty Long and the Jersey Horns at Private party
DESCRIPTION:Notes: Long Branch All Ages/Licensed
LOCATION:Private party\, Booking\, 856-419-2242\, US
UID:20260516T110000Z-1044-akamudstock@gmail.com
URL:https://www.shortylongrocks.com
DTSTART;VALUE=DATE-TIME;TZID=GMT:20260516T110000Z
DTEND;VALUE=DATE-TIME;TZID=GMT:20260516T110000Z
DTSTAMP:20260421T125304Z
END:VEVENT
BEGIN:VEVENT
SUMMARY:Shorty Long and the Jersey Horns at Reef & Barrel
DESCRIPTION:Notes: Tailgate Party With Shorty Long   Yes Sir !!!  Sign me up !!!  Who’s is our first time outside at Reef &amp\;Barrel   Cmon down &amp\; get down with   Shorty Long &amp\; The Jersey Horns All Ages/Licensed
LOCATION:Reef & Barrel\, 153 Sea Girt Ave\, Manasquan\, US
UID:20260522T183000Z-1033-akamudstock@gmail.com
URL:https://www.shortylongrocks.com
DTSTART;VALUE=DATE-TIME;TZID=GMT:20260522T183000Z
DTEND;VALUE=DATE-TIME;TZID=GMT:20260522T183000Z
DTSTAMP:20260421T125304Z
END:VEVENT
BEGIN:VEVENT
SUMMARY:Shorty Long and the Jersey Horns at Surf City Hotel
DESCRIPTION:All Ages/Licensed
LOCATION:Surf City Hotel\, 800 Long Beach Blvd\, Surf City\, US
UID:20260523T213000Z-1038-akamudstock@gmail.com
URL:https://www.shortylongrocks.com
DTSTART;VALUE=DATE-TIME;TZID=GMT:20260523T213000Z
DTEND;VALUE=DATE-TIME;TZID=GMT:20260523T213000Z
DTSTAMP:20260421T125304Z
END:VEVENT
BEGIN:VEVENT
SUMMARY:Shorty Long and the Jersey Horns at Carney’s Restaurant & Bar
DESCRIPTION:All Ages/Licensed
LOCATION:Carney’s Restaurant & Bar\, 411 Beach Ave\, Cape May\, US
UID:20260524T213000Z-1039-akamudstock@gmail.com
URL:https://www.shortylongrocks.com
DTSTART;VALUE=DATE-TIME;TZID=GMT:20260524T213000Z
DTEND;VALUE=DATE-TIME;TZID=GMT:20260524T213000Z
DTSTAMP:20260421T125304Z
END:VEVENT
BEGIN:VEVENT
SUMMARY:Shorty Long and the Jersey Horns at Riv's Tom's River Hub
DESCRIPTION:All Ages/Licensed
LOCATION:Riv's Tom's River Hub\, 1850 Hooper Ave\, Toms River\, US
UID:20260529T203000Z-1040-akamudstock@gmail.com
URL:https://www.shortylongrocks.com
DTSTART;VALUE=DATE-TIME;TZID=GMT:20260529T203000Z
DTEND;VALUE=DATE-TIME;TZID=GMT:20260529T203000Z
DTSTAMP:20260421T125304Z
END:VEVENT
BEGIN:VEVENT
SUMMARY:Shorty Long and the Jersey Horns at Golden Nugget
DESCRIPTION:Notes: This Event Will Be On The World Famous   “Golden Nugget Deck”   There is no cover charge   Come party in AC w/Shorty !!!! All Ages/Licensed
LOCATION:Golden Nugget\, 600 Huron Ave\, Atlantic City\, US
UID:20260530T193000Z-1024-akamudstock@gmail.com
URL:https://www.shortylongrocks.com
DTSTART;VALUE=DATE-TIME;TZID=GMT:20260530T193000Z
DTEND;VALUE=DATE-TIME;TZID=GMT:20260530T193000Z
DTSTAMP:20260421T125304Z
END:VEVENT
BEGIN:VEVENT
SUMMARY:Shorty Long and the Jersey Horns at Morgan’s Pier
DESCRIPTION:All Ages/Licensed
LOCATION:Morgan’s Pier\, 221 N Christopher Columbus Blvd\, Philadelphia\, US
UID:20260604T090000Z-1046-akamudstock@gmail.com
URL:https://www.shortylongrocks.com
DTSTART;VALUE=DATE-TIME;TZID=GMT:20260604T090000Z
DTEND;VALUE=DATE-TIME;TZID=GMT:20260604T090000Z
DTSTAMP:20260421T125304Z
END:VEVENT
BEGIN:VEVENT
SUMMARY:Shorty Long and the Jersey Horns at Wind Creek Casino
DESCRIPTION:All Ages/Licensed
LOCATION:Wind Creek Casino\, 77 Wind Creek Blvd\, Bethlehem\, US
UID:20260605T093000Z-1047-akamudstock@gmail.com
URL:https://www.shortylongrocks.com
DTSTART;VALUE=DATE-TIME;TZID=GMT:20260605T093000Z
DTEND;VALUE=DATE-TIME;TZID=GMT:20260605T093000Z
DTSTAMP:20260421T125304Z
END:VEVENT
BEGIN:VEVENT
SUMMARY:Shorty Long and the Jersey Horns at Bolero Resort
DESCRIPTION:All Ages/Licensed
LOCATION:Bolero Resort\, 3320 Atlantic Ave\, Wildwood\, US
UID:20260606T083000Z-1048-akamudstock@gmail.com
URL:https://www.shortylongrocks.com
DTSTART;VALUE=DATE-TIME;TZID=GMT:20260606T083000Z
DTEND;VALUE=DATE-TIME;TZID=GMT:20260606T083000Z
DTSTAMP:20260421T125304Z
END:VEVENT
BEGIN:VEVENT
SUMMARY:Shorty Long and the Jersey Horns at Seton Hall University
DESCRIPTION:Notes: We Are Ecstatic To Be A Part Of Alumni Weekend !!!! All Ages/Licensed
LOCATION:Seton Hall University\, 400 South Orange Ave\, South Orange\, NJ\, US
UID:20260606T120000Z-1049-akamudstock@gmail.com
URL:https://www.shortylongrocks.com
DTSTART;VALUE=DATE-TIME;TZID=GMT:20260606T120000Z
DTEND;VALUE=DATE-TIME;TZID=GMT:20260606T120000Z
DTSTAMP:20260421T125304Z
END:VEVENT
BEGIN:VEVENT
SUMMARY:Shorty Long and the Jersey Horns at PARX CASINO
DESCRIPTION:Notes: An EPIC Night Of Casino Fun &amp\; Shenanigans Featuring Musical Entertainment By Yours Truly !!!! All Ages/Licensed
LOCATION:PARX CASINO\, 2999 Street Road Bensalem\, PA 19020\, Bensalem\, US
UID:20260612T210000Z-1050-akamudstock@gmail.com
URL:https://www.shortylongrocks.com
DTSTART;VALUE=DATE-TIME;TZID=GMT:20260612T210000Z
DTEND;VALUE=DATE-TIME;TZID=GMT:20260612T210000Z
DTSTAMP:20260421T125304Z
END:VEVENT
BEGIN:VEVENT
SUMMARY:Shorty Long and the Jersey Horns at Beachcomber
DESCRIPTION:Notes: Ya Can’t Beat Shorty In Seaside Hts !!! All Ages/Licensed
LOCATION:Beachcomber\, 100 Ocean Terrace\, Seaside Heights\, US
UID:20260613T210000Z-1051-akamudstock@gmail.com
URL:https://www.shortylongrocks.com
DTSTART;VALUE=DATE-TIME;TZID=GMT:20260613T210000Z
DTEND;VALUE=DATE-TIME;TZID=GMT:20260613T210000Z
DTSTAMP:20260421T125304Z
END:VEVENT
BEGIN:VEVENT
SUMMARY:Shorty Long and the Jersey Horns at Beachcomber
DESCRIPTION:Notes: Our Thursday Night Is The Best Party On The Shore !!!! All Ages/Licensed
LOCATION:Beachcomber\, 100 Ocean Terrace\, Seaside Heights\, US
UID:20260618T210000Z-1052-akamudstock@gmail.com
URL:https://www.shortylongrocks.com
DTSTART;VALUE=DATE-TIME;TZID=GMT:20260618T210000Z
DTEND;VALUE=DATE-TIME;TZID=GMT:20260618T210000Z
DTSTAMP:20260421T125304Z
END:VEVENT
BEGIN:VEVENT
SUMMARY:Shorty Long and the Jersey Horns at Carney’s Restaurant & Bar
DESCRIPTION:Notes: This Place Is Always Crazy !!! All Ages/Licensed
LOCATION:Carney’s Restaurant & Bar\, 411 Beach Ave\, Cape May\, US
UID:20260620T213000Z-1053-akamudstock@gmail.com
URL:https://www.shortylongrocks.com
DTSTART;VALUE=DATE-TIME;TZID=GMT:20260620T213000Z
DTEND;VALUE=DATE-TIME;TZID=GMT:20260620T213000Z
DTSTAMP:20260421T125304Z
END:VEVENT
BEGIN:VEVENT
SUMMARY:Shorty Long and the Jersey Horns at The Wharf Wildwood NJ
DESCRIPTION:Notes: Our First Ever Show At The Wharf    Free T Shirts Decals &amp\; Shorty Swag !!! All Ages/Licensed
LOCATION:The Wharf Wildwood NJ\, 708 W Burk Ave\, Wildwood\, US
UID:20260621T160000Z-1054-akamudstock@gmail.com
URL:https://www.shortylongrocks.com
DTSTART;VALUE=DATE-TIME;TZID=GMT:20260621T160000Z
DTEND;VALUE=DATE-TIME;TZID=GMT:20260621T160000Z
DTSTAMP:20260421T125304Z
END:VEVENT
BEGIN:VEVENT
SUMMARY:Shorty Long and the Jersey Horns at Beachcomber
DESCRIPTION:Notes: Thursday Night Rocks!!! All Ages/Licensed
LOCATION:Beachcomber\, 100 Ocean Terrace\, Seaside Heights\, US
UID:20260625T210000Z-1055-akamudstock@gmail.com
URL:https://www.shortylongrocks.com
DTSTART;VALUE=DATE-TIME;TZID=GMT:20260625T210000Z
DTEND;VALUE=DATE-TIME;TZID=GMT:20260625T210000Z
DTSTAMP:20260421T125304Z
END:VEVENT
BEGIN:VEVENT
SUMMARY:Shorty Long and the Jersey Horns at HARRAHS VOODOO LOUNGE
DESCRIPTION:Notes: AWESOME CASINO FUN WITH SHORTY !!! All Ages/Licensed
LOCATION:HARRAHS VOODOO LOUNGE\, 777 Harrahs Blvd\, Atlantic City\, US
UID:20260627T210000Z-1056-akamudstock@gmail.com
URL:https://www.shortylongrocks.com
DTSTART;VALUE=DATE-TIME;TZID=GMT:20260627T210000Z
DTEND;VALUE=DATE-TIME;TZID=GMT:20260627T210000Z
DTSTAMP:20260421T125304Z
END:VEVENT
BEGIN:VEVENT
SUMMARY:Shorty Long and the Jersey Horns at Reef & Barrel
DESCRIPTION:All Ages/Licensed
LOCATION:Reef & Barrel\, 153 Sea Girt Ave\, Manasquan\, US
UID:20260628T180000Z-1057-akamudstock@gmail.com
URL:https://www.shortylongrocks.com
DTSTART;VALUE=DATE-TIME;TZID=GMT:20260628T180000Z
DTEND;VALUE=DATE-TIME;TZID=GMT:20260628T180000Z
DTSTAMP:20260421T125304Z
END:VEVENT
END:VCALENDAR